{
 "currentVersion": 10.21,
 "serviceDescription": "Servicio de Mapa preparado con ArcGIS Server 10.2. Incluye la información de mapa base político, a partir de la cartografía de IGM 1:50.000 para ser usado en el Observatorio de Infraestructura y Gestión del Recurso Hídrico",
 "mapName": "Capas",
 "description": "",
 "copyrightText": "Ministerio de Obras Públicas",
 "supportsDynamicLayers": false,
 "layers": [
  {
   "id": 0,
   "name": "Provincia",
   "parentLayerId": -1,
   "defaultVisibility": true,
   "subLayerIds": [
    1,
    2,
    3,
    4
   ],
   "minScale": 250000,
   "maxScale": 0
  },
  {
   "id": 1,
   "name": "Nombre Provincias",
   "parentLayerId": 0,
   "defaultVisibility": true,
   "subLayerIds": null,
   "minScale": 0,
   "maxScale": 0
  },
  {
   "id": 2,
   "name": "Nombre Comunas",
   "parentLayerId": 0,
   "defaultVisibility": true,
   "subLayerIds": null,
   "minScale": 0,
   "maxScale": 0
  },
  {
   "id": 3,
   "name": "Limites",
   "parentLayerId": 0,
   "defaultVisibility": true,
   "subLayerIds": null,
   "minScale": 0,
   "maxScale": 0
  },
  {
   "id": 4,
   "name": "Provincias",
   "parentLayerId": 0,
   "defaultVisibility": true,
   "subLayerIds": null,
   "minScale": 0,
   "maxScale": 0
  },
  {
   "id": 5,
   "name": "Regiones",
   "parentLayerId": -1,
   "defaultVisibility": true,
   "subLayerIds": [
    6,
    7,
    8,
    9
   ],
   "minScale": 1000000,
   "maxScale": 250001
  },
  {
   "id": 6,
   "name": "Nombre Regiones",
   "parentLayerId": 5,
   "defaultVisibility": true,
   "subLayerIds": null,
   "minScale": 0,
   "maxScale": 0
  },
  {
   "id": 7,
   "name": "Nombres Provincias",
   "parentLayerId": 5,
   "defaultVisibility": true,
   "subLayerIds": null,
   "minScale": 0,
   "maxScale": 0
  },
  {
   "id": 8,
   "name": "Limites",
   "parentLayerId": 5,
   "defaultVisibility": true,
   "subLayerIds": null,
   "minScale": 0,
   "maxScale": 0
  },
  {
   "id": 9,
   "name": "Regiones",
   "parentLayerId": 5,
   "defaultVisibility": true,
   "subLayerIds": null,
   "minScale": 0,
   "maxScale": 0
  },
  {
   "id": 10,
   "name": "Chile",
   "parentLayerId": -1,
   "defaultVisibility": true,
   "subLayerIds": [
    11,
    12
   ],
   "minScale": 0,
   "maxScale": 0
  },
  {
   "id": 11,
   "name": "Nombre Regiones",
   "parentLayerId": 10,
   "defaultVisibility": true,
   "subLayerIds": null,
   "minScale": 0,
   "maxScale": 1000001
  },
  {
   "id": 12,
   "name": "Territorio Nacional",
   "parentLayerId": 10,
   "defaultVisibility": true,
   "subLayerIds": null,
   "minScale": 0,
   "maxScale": 1000001
  },
  {
   "id": 13,
   "name": "Sudamérica",
   "parentLayerId": -1,
   "defaultVisibility": true,
   "subLayerIds": null,
   "minScale": 0,
   "maxScale": 0
  },
  {
   "id": 14,
   "name": "Mar",
   "parentLayerId": -1,
   "defaultVisibility": true,
   "subLayerIds": null,
   "minScale": 0,
   "maxScale": 0
  }
 ],
 "tables": [],
 "spatialReference": {
  "wkid": 4674,
  "latestWkid": 4674
 },
 "singleFusedMapCache": true,
 "tileInfo": {
  "rows": 256,
  "cols": 256,
  "dpi": 96,
  "format": "JPEG",
  "compressionQuality": 80,
  "origin": {
   "x": -400,
   "y": 400
  },
  "spatialReference": {
   "wkid": 4674,
   "latestWkid": 4674
  },
  "lods": [
   {
    "level": 0,
    "resolution": 0.04399456361617579,
    "scale": 18489298
   },
   {
    "level": 1,
    "resolution": 0.021997281808087896,
    "scale": 9244649
   },
   {
    "level": 2,
    "resolution": 0.010998639714313444,
    "scale": 4622324
   },
   {
    "level": 3,
    "resolution": 0.005499319857156722,
    "scale": 2311162
   },
   {
    "level": 4,
    "resolution": 0.002749659928578361,
    "scale": 1155581
   },
   {
    "level": 5,
    "resolution": 0.0013748311540196835,
    "scale": 577791
   },
   {
    "level": 6,
    "resolution": 6.874143872793388E-4,
    "scale": 288895
   },
   {
    "level": 7,
    "resolution": 3.4370838337017233E-4,
    "scale": 144448
   },
   {
    "level": 8,
    "resolution": 1.7185419168508616E-4,
    "scale": 72224
   },
   {
    "level": 9,
    "resolution": 8.592709584254308E-5,
    "scale": 36112
   },
   {
    "level": 10,
    "resolution": 4.296354792127154E-5,
    "scale": 18056
   }
  ]
 },
 "initialExtent": {
  "xmin": -94.74309140347803,
  "ymin": -43.23400688534618,
  "xmax": -43.26945270407926,
  "ymax": -17.057241905737406,
  "spatialReference": {
   "cs": "gcs",
   "wkid": 4674
  }
 },
 "fullExtent": {
  "xmin": -94.74309140347803,
  "ymin": -56.60835403459167,
  "xmax": -43.269452704079264,
  "ymax": -17.057241905737417,
  "spatialReference": {
   "cs": "gcs",
   "wkid": 4674
  }
 },
 "minScale": 18489298,
 "maxScale": 18056,
 "units": "esriDecimalDegrees",
 "supportedImageFormatTypes": "PNG32,PNG24,PNG,JPG,DIB,TIFF,EMF,PS,PDF,GIF,SVG,SVGZ,BMP",
 "documentInfo": {
  "Title": "Mapa Base Político",
  "Author": "UGIT DGOP",
  "Comments": "Servicio de Mapa preparado con ArcGIS Server 10.2. Incluye la información de mapa base político, a partir de la cartografía de IGM 1:50.000 para ser usado en el Observatorio de Infraestructura y Gestión del Recurso Hídrico",
  "Subject": "Servicio de mapas que muestra un mapa base político",
  "Category": "",
  "AntialiasingMode": "Best",
  "TextAntialiasingMode": "Force",
  "Keywords": "MOP"
 },
 "capabilities": "Map,Query,Data",
 "supportedQueryFormats": "JSON, AMF",
 "hasVersionedData": true,
 "exportTilesAllowed": false,
 "maxRecordCount": 10000,
 "maxImageHeight": 4096,
 "maxImageWidth": 4096,
 "supportedExtensions": ""
}
